BEGIN:VCALENDAR
VERSION:2.0
PRODID:-//Revival Event Venue - Toronto's Premiere Boutique Event Space - ECPv6.15.20//NONSGML v1.0//EN
CALSCALE:GREGORIAN
METHOD:PUBLISH
X-WR-CALNAME:Revival Event Venue - Toronto's Premiere Boutique Event Space
X-ORIGINAL-URL:https://www.revivaleventvenue.ca
X-WR-CALDESC:Events for Revival Event Venue - Toronto's Premiere Boutique Event Space
REFRESH-INTERVAL;VALUE=DURATION:PT1H
X-Robots-Tag:noindex
X-PUBLISHED-TTL:PT1H
BEGIN:VTIMEZONE
TZID:America/Toronto
BEGIN:DAYLIGHT
TZOFFSETFROM:-0500
TZOFFSETTO:-0400
TZNAME:EDT
DTSTART:20250309T070000
END:DAYLIGHT
BEGIN:STANDARD
TZOFFSETFROM:-0400
TZOFFSETTO:-0500
TZNAME:EST
DTSTART:20251102T060000
END:STANDARD
BEGIN:DAYLIGHT
TZOFFSETFROM:-0500
TZOFFSETTO:-0400
TZNAME:EDT
DTSTART:20260308T070000
END:DAYLIGHT
BEGIN:STANDARD
TZOFFSETFROM:-0400
TZOFFSETTO:-0500
TZNAME:EST
DTSTART:20261101T060000
END:STANDARD
BEGIN:DAYLIGHT
TZOFFSETFROM:-0500
TZOFFSETTO:-0400
TZNAME:EDT
DTSTART:20270314T070000
END:DAYLIGHT
BEGIN:STANDARD
TZOFFSETFROM:-0400
TZOFFSETTO:-0500
TZNAME:EST
DTSTART:20271107T060000
END:STANDARD
END:VTIMEZONE
BEGIN:VEVENT
DTSTART;TZID=America/Toronto:20260320T190000
DTEND;TZID=America/Toronto:20260321T000000
DTSTAMP:20260423T170035
CREATED:20260121T141934Z
LAST-MODIFIED:20260122T173947Z
UID:6395-1774033200-1774051200@www.revivaleventvenue.ca
SUMMARY:Pancakes & Booze Art Show
DESCRIPTION:Toronto’s Underground Pop-Up Art Show is BACK on March 20th\, 2026.\nCome experience one of the largest pop-up art movements to hit North America over the past decade. Celebrating over 15 years of serving FREE PANCAKES and introducing you to some of the nation’s leading emerging artists. \n\nOver 75+ local artists exhibiting over 300+ pieces of artwork\nFREE All-U-Can-Eat Pancakes\nLive Audio Performances from local DJs and Music Producers\nLive Body Painting & Art\n19+ EVENT\n$20 General Admission |  $25 General Admission (Day of Show – Door)\n\nAre you a local artist looking to exhibit your work? Please visit our website to submit your artwork or email us at info@pancakesandbooze.com for further information. \nABOUT The Pancakes & Booze Art Show:\nThe LA based event originated in 2009 and has since popped up more than 500 times in 35+ cities around Europe & North America. Batter sizzles\, beer foams\, and canvas lines the walls from ceiling to floor as hundreds\, sometimes thousands\, of revelers indulge in endless pancakes. This is no stuffy wine-and-cheese\, pretentious\, someone-gag-me art event. It’s an innovative reimagining of the art show concept. A welcoming vibe for up-and-coming artists to sell and strut their stuff in a free verse\, anything goes environment. \nSubmissions: www.pancakesandbooze.com/submit\nEmail: info@pancakesandbooze.com
URL:https://www.revivaleventvenue.ca/event/pancakes-booze-art-show-3/
LOCATION:Revival Event Venue\, 783 College Street\, Toronto\, Ontario\, M6G 1C5\, Canada
ATTACH;FMTTYPE=image/jpeg:https://www.revivaleventvenue.ca/wp-content/uploads/2026/01/PancakesBooze-March20.jpg
ORGANIZER;CN="The Pancakes & Booze Art Show":MAILTO:info@pancakesandbooze.com
END:VEVENT
BEGIN:VEVENT
DTSTART;TZID=America/Toronto:20260324T173000
DTEND;TZID=America/Toronto:20260324T203000
DTSTAMP:20260423T170035
CREATED:20260226T202635Z
LAST-MODIFIED:20260226T202635Z
UID:6443-1774373400-1774384200@www.revivaleventvenue.ca
SUMMARY:Hire Her\, Too: Black Women in Foodservice Networking Mixer
DESCRIPTION:Join us for an evening dedicated to connection\, opportunity\, and celebration of Black women shaping the future of foodservice. \n\n\n\n\nPresented by The Re-Seasoning Coalition and High Liner Foods \nJoin us for an evening dedicated to connection\, opportunity\, and the celebration of Black women shaping the future of foodservice. \nAbout the Event\nThree in ten Black women working in foodservice are seeking stable\, long-term careers\, yet their average career length in the industry is only 6 years. How do we create inclusive workplaces where Black women can thrive? By working with employers to fill the gaps. \nThe Hire Her Networking Mixer is more than a hiring event — it’s a space for meaningful industry connections rooted in equity\, authenticity\, and industry resilience. \nThe Re-Seasoning Coalition is bringing together: \n\nBlack women job seekers eager to bring their talent\, skills\, and vision to foodservice.\nFoodservice employers and leaders committed to building more inclusive\, diverse\, and equitable teams.\nCommunity partners supporting women’s professional development\n\nTogether\, we’ll cultivate an atmosphere of value exchange — where both job seekers and employers walk away with insight\, opportunity\, and new relationships that can spark lasting impact. \nWhy Attend?\nFor Job Seekers: Meet potential employers\, gain industry insights\, and connect with peers who share your journey. \nFor Employers: Access an exceptional network of Black women professionals ready to bring expertise\, creativity\, and leadership to your teams. \nFor Everyone: Be part of a community-driven experience that centers equity and celebrates the contributions of Black women in foodservice. \n\n\nWhat to Expect\n\nCurated networking activities designed to spark authentic conversation.\nInsightful moments that highlight opportunities\, lived experiences\, and leadership in foodservice and the corporate world.\nA vibrant\, supportive space to exchange ideas\, inspiration\, and opportunities.\n\nThis isn’t about charity or transactional hiring. This is an event focused on increasing Black representation in foodservice by creating opportunities for employers to build talent pipelines and connect with professionals who want to contribute to their best to the field. It’s a tangible opportunity to put equity\, diversity\, and inclusion into practice and it’s about ensureing the industry thrives because of it. \n\n\n\n\nNeed support with childcare or transportation? To assist jobseekers in getting to the event\, a limited number of $50 honorariums will be sent by ETF to attendees. \nLooking forward to seeing you there!
URL:https://www.revivaleventvenue.ca/event/hire-her-too-black-women-in-foodservice-networking-mixer/
LOCATION:Revival Event Venue\, 783 College Street\, Toronto\, Ontario\, M6G 1C5\, Canada
ATTACH;FMTTYPE=image/jpeg:https://www.revivaleventvenue.ca/wp-content/uploads/2026/02/HireHerToo-March24.jpg
END:VEVENT
BEGIN:VEVENT
DTSTART;TZID=America/Toronto:20260325T200000
DTEND;TZID=America/Toronto:20260325T233000
DTSTAMP:20260423T170035
CREATED:20260219T153001Z
LAST-MODIFIED:20260219T173014Z
UID:6434-1774468800-1774481400@www.revivaleventvenue.ca
SUMMARY:Babes Babes Babes - Burlesque and Drag Show
DESCRIPTION:4 beautiful BABES tease\, titillate and bring you the babe-liest Burlesque and Drag show around! \n\n\n\n\nThe BABES\, BABES\, BABES! show is a jam-packed\, laugh out loud\, adults only cabaret! The show combines burlesque\, drag\, comedy\, extravagant costumes\, showstopping group numbers and naughty humour in a raucous spectacle that will leave you wanting more! Featuring an award winning cast of cabaret artists\, each at the top of their field\, the BABES show is the perfect way to spice up your night! \nIn addition to all the sultry teases\, the naughty jokes\, and the sparkly thongs\, the Babes celebrate sexuality\, LGBTQ identities\, and body confidence with inspiring performances and heartfelt moments. \nPerfect for a date night\, a celebration or a girl’s night out. So grab a ticket\, grab a beverage and indulge in this special adults only evening of cabaret entertainment! \nSHOW SCHEDULE\nDoors at 7:00pm\, Show at 8:00pm\nThe show is approx 120 minutes total. This includes a 20 min. intermission. \nFEATURING:\nWorld’s #1 Babe: BonBon Bombay\nRuthless Babe: Wrong Note Rusty\nWhatta Babe: Selena Vyle\nAnd The Babe Himself: James & The Giant Pasty
URL:https://www.revivaleventvenue.ca/event/babes-babes-babes-burlesque-and-drag-show/
LOCATION:Revival Event Venue\, 783 College Street\, Toronto\, Ontario\, M6G 1C5\, Canada
ATTACH;FMTTYPE=image/jpeg:https://www.revivaleventvenue.ca/wp-content/uploads/2026/02/BabesBurlesque-March25.jpg
ORGANIZER;CN="Babes Burlesque":MAILTO:boylesque@gmail.com
END:VEVENT
BEGIN:VEVENT
DTSTART;TZID=America/Toronto:20260328T213000
DTEND;TZID=America/Toronto:20260329T023000
DTSTAMP:20260423T170035
CREATED:20260125T202600Z
LAST-MODIFIED:20260306T182017Z
UID:6398-1774733400-1774751400@www.revivaleventvenue.ca
SUMMARY:Renaissance - ALL 90s . ALL Night
DESCRIPTION:For the third consecutive Spring\, this ALL-STAR line-up of global DJs are teaming up to bring you more 90s musical fire in 2026! \nBrown Eyes Entertainment in association with DJAgile.com present: \nRENAISSANCE – ALL 90s . ALL Night\nToronto’s Longest Running ALL 90’s Party\nSaturday\, March 28\, 2026 \nMusical soundtrack by \nDANNY D (Z1035\, Drive @ 5 & Wayback Lunch) \n4KORNERS (Toronto Raptors Official DJ) \nAGILE (Kardinal Offishall’s Official DJ) \nMISTA JIGGZ (Renaissance Resident) \nVICIOUS (808 Entertainment) \nDoors open at 9:30pm \nLimited Early Bird tickets now on sale. \nFor booth reservations/bottle service\, email joe@revivaleventvenue.ca. For group bookings/info.\, email info@browneyesentertainment.com. \nwww.browneyesentertainment.com
URL:https://www.revivaleventvenue.ca/event/renaissance-all-90s-2/
LOCATION:Revival Event Venue\, 783 College Street\, Toronto\, Ontario\, M6G 1C5\, Canada
ATTACH;FMTTYPE=image/jpeg:https://www.revivaleventvenue.ca/wp-content/uploads/2026/01/RenaissanceALL90s-March28.jpg
ORGANIZER;CN="Brown Eyes Entertainment":MAILTO:info@browneyesentertainment.com
END:VEVENT
BEGIN:VEVENT
DTSTART;TZID=America/Toronto:20260403T213000
DTEND;TZID=America/Toronto:20260403T213000
DTSTAMP:20260423T170035
CREATED:20260401T031603Z
LAST-MODIFIED:20260401T032420Z
UID:6473-1775251800-1775251800@www.revivaleventvenue.ca
SUMMARY:Labuc - Debí tirar más fotos
DESCRIPTION:Whether you’re wrapping up your first year or getting ready to leave the MBA behind\, join your fellow Rotman MBA friends for a Latin-themed night of music\, dancing\, and great vibes as we celebrate this major milestone together. Organized by the Rotman Latin American Business Club (LABUC) and produced by Suáh\, this is your chance to dress up\, hit the dance floor\, and make a few more unforgettable memories with the people who made the MBA experience so special. \n 
URL:https://www.revivaleventvenue.ca/event/labuc-debi-tirar-mas-fotos/
LOCATION:Revival Event Venue\, 783 College Street\, Toronto\, Ontario\, M6G 1C5\, Canada
ATTACH;FMTTYPE=image/jpeg:https://www.revivaleventvenue.ca/wp-content/uploads/2026/03/Labuc-April3.jpg
END:VEVENT
BEGIN:VEVENT
DTSTART;TZID=America/Toronto:20260404T220000
DTEND;TZID=America/Toronto:20260405T030000
DTSTAMP:20260423T170035
CREATED:20260202T043445Z
LAST-MODIFIED:20260202T043445Z
UID:6404-1775340000-1775358000@www.revivaleventvenue.ca
SUMMARY:Spring Passion - In Full Bloom
DESCRIPTION:ThisIsJester.com presents Spring Passion. Easter Saturday is going to be off the hook\, featuring Jester and friends. \nBooth and bottle service: passion@thisisjester.com \nDriven by a philosophy that music is both an art form and a strategic tool\, DJ Jester brings a polished\, reliable\, and culturally fluent approach to every engagement—ensuring each event delivers lasting impact while protecting and enhancing brand value.
URL:https://www.revivaleventvenue.ca/event/spring-passion-in-full-bloom/
LOCATION:Revival Event Venue\, 783 College Street\, Toronto\, Ontario\, M6G 1C5\, Canada
ATTACH;FMTTYPE=image/jpeg:https://www.revivaleventvenue.ca/wp-content/uploads/2026/02/SpringPassion-April4.jpg
END:VEVENT
BEGIN:VEVENT
DTSTART;TZID=America/Toronto:20260418T220000
DTEND;TZID=America/Toronto:20260419T023000
DTSTAMP:20260423T170035
CREATED:20260309T134226Z
LAST-MODIFIED:20260309T134226Z
UID:6451-1776549600-1776565800@www.revivaleventvenue.ca
SUMMARY:Roots Of House
DESCRIPTION:Featuring Kenny Glasgow\, Rudee Nik & DJ YOGI\n\n\nRoots Of House w/ Kenny Glasgow\, Rudee Nik & DJ YOGI (Sat April 18th at Revival Bar) \n\n\n\n\nUnited Soul proudly presents: ROOTS OF HOUSE\nfeaturing:\nKENNY GLASGOW\nRUDEE NIK\nDJ YOGI \n$15 / $20 /$25 Tickets \nPowered by United Soul & Groovin’ In The Park \nBIO:\nThe ROOTS OF HOUSE is a party concept that showcases the various sounds of HOUSE MUSIC from Chicago\, Detroit\, New York & beyond. Our DJs explore their journey into HOUSE MUSIC past & present. We invite you to join US on this epic ride.
URL:https://www.revivaleventvenue.ca/event/roots-of-house/
LOCATION:Revival Event Venue\, 783 College Street\, Toronto\, Ontario\, M6G 1C5\, Canada
ATTACH;FMTTYPE=image/jpeg:https://www.revivaleventvenue.ca/wp-content/uploads/2026/03/RootsOfHouse-April18-SquareV1.jpg
END:VEVENT
BEGIN:VEVENT
DTSTART;TZID=America/Toronto:20260425T220000
DTEND;TZID=America/Toronto:20260425T220000
DTSTAMP:20260423T170035
CREATED:20260209T202830Z
LAST-MODIFIED:20260209T204842Z
UID:6421-1777154400-1777154400@www.revivaleventvenue.ca
SUMMARY:Euro Nation Destination
DESCRIPTION:Get ready to dance all night to your favorite 90s and 2000s hits at DESTINATION DANCEFLOOR in Toronto! \nEURO NATION PRESENTS: DESTINATION DANCEFLOOR: THE ULTIMATE 90s & 2000s PARTY EXPERIENCE!\nToronto… we’re back! \nGet ready for another unforgettable night as EURO NATION brings you the next chapter of DESTINATION DANCEFLOOR\, the city’s biggest celebration of 90s & 2000s euro\, dance\, house\, trance\, and club anthems. \nJoin us on Saturday April 25\, 2026 at REVIVAL for a high energy party packed with nostalgic vibes\, massive hits\, and the electric atmosphere we’re known for. If you’ve been to our past events\, you already know: they sell out fast and they don’t happen often. This one will be our BIGGEST one yet\, loaded with surprises all night long. \nExpect non-stop classic anthems\nGo-Go dancers\nGiveaways\nMusic videos & visuals\nA crowd full of pure positive energy \nEURO NATION has spent years bringing this music to the world through our weekly global radio shows and thousands of loyal followers\, now it’s time to experience it LIVE with us once again.\nWe can’t wait to party with you on the dancefloor! \nFEATURING YOUR DJs\nDJ MARKY D (Former Z103.5 Live-to-Air & MuchDance DJ)\nMAURICIO CASTANO \nTICKETS & INFO\nTickets: www.destinationdancefloor.com or euronation.ca\nQuestions and bottle service: info@euronation.ca\nThis is a 19+ event. \nIf you love 90s & 2000s dance music… this is your night.\nSee you on the Dancefloor!
URL:https://www.revivaleventvenue.ca/event/euro-nation-destination/
LOCATION:Revival Event Venue\, 783 College Street\, Toronto\, Ontario\, M6G 1C5\, Canada
ATTACH;FMTTYPE=image/jpeg:https://www.revivaleventvenue.ca/wp-content/uploads/2026/02/Euronation-April25.jpg
ORGANIZER;CN="Euro Nation":MAILTO:info@euronation.ca
END:VEVENT
BEGIN:VEVENT
DTSTART;TZID=America/Toronto:20260501T180000
DTEND;TZID=America/Toronto:20260502T023000
DTSTAMP:20260423T170035
CREATED:20260309T135552Z
LAST-MODIFIED:20260401T014434Z
UID:6455-1777658400-1777689000@www.revivaleventvenue.ca
SUMMARY:The Sinner's Cabaret
DESCRIPTION:A Halfway to Halloween Celebration\nJoin us for a decadent night of drag\, cirque\, magic\, ballet\, and metal as we celebrate Halfway to Halloween in spectacular style. \nDoors: 6:00 PM\nPre-Show Feature : 7:15 PM\nMain Stage Show: 8:30 PM \nStanding Room Only\nArrive early to fully immerse yourself in the experience. Explore our curated Vendor Market\, step inside the mysterious Tarot Reading Room (7pm-9pm)\, and capture the night at our themed. Photo Ops before the main stage ignites. \nHosted by Kami Van Halst\nPerformances by:\nKami Van Halst – Your Heavy Metal Host delivering commanding live performances woven throughout the night.\nChris Mayhew – Spellbinding magic that twists reality and keeps you guessing.\nAnne Alien (Messy Productions) – Fierce\, fearless drag that pushes every boundary.\nSeyonce (Messy Productions) – Glamour\, charisma\, and high-impact drag energy.\nYovska (Messy Productions) – Avant-garde drag artistry pulled from your most delicious nightmares.\nKaleb Atak – A visceral live blood painting performance blending cirque intensity with raw artistic ritual.\nAlice Witchfire – Mesmerizing cirque spectacle wrapped in dark elegance.\nHeavy Metal Ballerina – A striking fusion of classical ballet and raw metal energy. \n🎟 Pay-What-You-Can Admission\nWe believe art should be accessible to all.\nChoose your ticket tier: $10 / $15 / $20\nCome dressed to impress. Embrace the shadows.\nJoin us as we celebrate being Halfway to Halloween — because spooky season never truly sleeps.
URL:https://www.revivaleventvenue.ca/event/the-sinners-cabaret/
LOCATION:Revival Event Venue\, 783 College Street\, Toronto\, Ontario\, M6G 1C5\, Canada
ATTACH;FMTTYPE=image/jpeg:https://www.revivaleventvenue.ca/wp-content/uploads/2026/03/SinnersCabaret-MayLR.jpg
END:VEVENT
BEGIN:VEVENT
DTSTART;TZID=America/Toronto:20260502T200000
DTEND;TZID=America/Toronto:20260502T235500
DTSTAMP:20260423T170035
CREATED:20260224T223228Z
LAST-MODIFIED:20260224T223228Z
UID:6439-1777752000-1777766100@www.revivaleventvenue.ca
SUMMARY:The OverKillers 1 Year Anniversary Show
DESCRIPTION:Canada’s Tribute to The Killers\, The OverKillers are celebrating their one year anniversary with a HUGE show at Revival in Toronto! \n\n\n\n\nThe OverKillers hit the stage at 9:00pm. Standing room only. \nHigh-energy Killers tribute band performing the biggest hits with authentic sound\, powerful vocals\, and style – the ultimate live experience for fans of The Killers.
URL:https://www.revivaleventvenue.ca/event/the-overkillers-1-year-anniversary-show/
LOCATION:Revival Event Venue\, 783 College Street\, Toronto\, Ontario\, M6G 1C5\, Canada
ATTACH;FMTTYPE=image/jpeg:https://www.revivaleventvenue.ca/wp-content/uploads/2026/02/Overkillers-May2.jpg
END:VEVENT
BEGIN:VEVENT
DTSTART;TZID=America/Toronto:20260507T183000
DTEND;TZID=America/Toronto:20260507T233000
DTSTAMP:20260423T170035
CREATED:20260421T200503Z
LAST-MODIFIED:20260421T201141Z
UID:6510-1778178600-1778196600@www.revivaleventvenue.ca
SUMMARY:AdBands 2026
DESCRIPTION:An epic night of live music. Onstage at Revival Bar. Catch Grayson’s ‘Reco and the Backups’ for a wild mix of your fav chooons! \nIn support of Ontario Rhetts Syndrome Association and Epilepsy Toronto.
URL:https://www.revivaleventvenue.ca/event/adbands-2026/
LOCATION:Revival Event Venue\, 783 College Street\, Toronto\, Ontario\, M6G 1C5\, Canada
ATTACH;FMTTYPE=image/jpeg:https://www.revivaleventvenue.ca/wp-content/uploads/2026/04/AdBands-May7.jpg
END:VEVENT
BEGIN:VEVENT
DTSTART;TZID=America/Toronto:20260509T220000
DTEND;TZID=America/Toronto:20260510T023000
DTSTAMP:20260423T170035
CREATED:20260409T172814Z
LAST-MODIFIED:20260409T172814Z
UID:6501-1778364000-1778380200@www.revivaleventvenue.ca
SUMMARY:Solid Garage 28 Year Party w/ Barbara Tucker Live
DESCRIPTION:Solid Garage 28 Year Anniversary Party w/ Barbara Tucker Live (Sat May 9th at Revival Bar) \nUnited Soul proudly presents: Solid Garage 28 Year Anniversary Party \nfeaturing the legendary:\nBARBARA TUCKER Live w/ DJ Q\n(Beautiful People\, I get lifted\, Stay Together\, Deep Inside\, Stop Playing with My Mind\, Most Precious Love …) \nalongside:\nDino & Terry\nGroove Institute\n(DJ YOGI\, Mark & Anand) \nMC Toney Williams \nhosted: Brigette & Raoul \n$20 /$25 / $30 Tickets\nhttps://sg28barbaratucker.eventbrite.ca \nPowered by United Soul & Groovin’ In The Park \nBIO:\nI love all “Beautiful People”!! House Music Queen. Celebrating 40+ years in the Music Industry! \nHeralded as the Queen of House Barbara Tucker’s induction into the world of music came in the mid 80s via the late Walter Gibbins with the Harlequin Four and later at the hands of Tommy Musto and Victor Simonelli in the early 90s\, who used her vocals on a range of their products. Her delivery and visual presence soon established her as an icon of New York’s gay/Hi-NRG scene. In the UK it was the soul/ house cut\, ‘Beautiful People’\, which utilised the ‘Deep Deep Inside’ hook from Hardrive’s track of the same name\, remixed by C.J. Mackintosh\, which gave her an audience. The song was produced by Lil’ Louie Vega\, whom she met through her partner Dom Welch\, a Billboard reporter of the Underground Network Club in New York. The cast of backing singers reflected the esteem she is held in within that community\, numbering Michael Watford\, India and Ten City’s Byron Stingily within their ranks. \nThe multi-talented dance music icon has been going strong in the industry for over 40 years singing\, choreographing as well as promoting events and shows no sign of letting up. Brooklyn born she hails from a musical background\, with her Father Jayotis Washington of The Persuasions having a big influence on her (he performed recently on “The View” for Whoopie Goldberg). Her artistry has allowed her to work with artists such as Wycleff Jean\, George Clinton. Grand Master Flash\, the Pet Shop Boys and even front for King of Disco Cerrone (where she was a guest on France’s TV show the X-Factor) and every top producer in the scene. \nBarbara has impacted the dance scene nationally and internationally receiving awards and #1s from Billboard\, Traxsource and Beatport. Two of her recent sampled works are on Kanye Wests “Fade” album “Deep Inside” & “Lifted”. “Deep Inside” also appeared on a Carolina Herrera commercial as well as a version of her song “Respect” featuring on a Pepsi Superbowl commercial\, sung by X-Factor winner Melanie Amaro. Currently she has an upcoming release coming out on Groove Odyssey Records with London’s Bobby&Steve entitled “Lovers Escapade” as well as many other productions and remixes in constant flow with the likes of Carl Cox\, Erick Morillo and Todd Terry. \nThe leading diva of dance has held residencies in Ibiza\, Spain since 2001 including Glitterbox\, Blue Marlin\, Children of the 80s\, as well as her “We Are All House” parties. She hosts the Groove Odyssey stage of the 51st State festival in London\, annually and has done live performances all over the globe. Barbara is a sensational entertainer that truly captures the essence of live performance. Her shows are extremely intense with her captivating voice and phenomenal stage presence.
URL:https://www.revivaleventvenue.ca/event/solid-garage-28-year-party-w-barbara-tucker-live/
LOCATION:Revival Event Venue\, 783 College Street\, Toronto\, Ontario\, M6G 1C5\, Canada
ATTACH;FMTTYPE=image/jpeg:https://www.revivaleventvenue.ca/wp-content/uploads/2026/04/BarbaraTucker-SolidGarage28thAnniv_FBeventBanner_sqrLR.jpg
END:VEVENT
BEGIN:VEVENT
DTSTART;TZID=America/Toronto:20260515T190000
DTEND;TZID=America/Toronto:20260515T233000
DTSTAMP:20260423T170035
CREATED:20260421T194353Z
LAST-MODIFIED:20260421T194353Z
UID:6507-1778871600-1778887800@www.revivaleventvenue.ca
SUMMARY:Serata Karaoke: An Italian Night Out in Toronto
DESCRIPTION:Serata Karaoke – Italian Karaoke + Social Mixer coming to Toronto on May 16th \n\n🎟️ Tickets on sale NOW 🎟️ \nSerata is shaking things up on May 16th. This is not your average karaoke or club night. We’re welcoming you to Toronto’s Italian karaoke + social mixer where you’ll not only SING along to your favourite songs with the lyrics on the BIG SCREEN\, but you’ll have the chance to make amazing connections throughout the night too! \nWe’re taking over Revival Event Venue for a night of karaoke\, trivia with prizes\, and a DJ keeping the energy high into the night. \nFrom timeless classics to modern-day tormentoni\, we’re bringing the biggest Italian songs from every era to one dance floor. Whether it’s Sal da Vinci’s “Per Sempre Sì”\, Samurai Jay’s “Ossessione”\, or that one early 2000s Festivalbar hit that you forgot you loved — the words will be on screen\, and the crowd will carry you. \nWhether you’re joining along with the crowd\, or boldly grabbing the mic\, come ready to sing\, dance\, and connect with the Italian/Canadian community in a whole new way! \nDon’t miss out on the ultimate Italian experience in Toronto – Serata awaits you! \n 
URL:https://www.revivaleventvenue.ca/event/serata-karaoke-an-italian-night-out-in-toronto/
LOCATION:Revival Event Venue\, 783 College Street\, Toronto\, Ontario\, M6G 1C5\, Canada
ATTACH;FMTTYPE=image/jpeg:https://www.revivaleventvenue.ca/wp-content/uploads/2026/04/SerataKaraoke-May15.jpg
END:VEVENT
BEGIN:VEVENT
DTSTART;TZID=America/Toronto:20260515T210000
DTEND;TZID=America/Toronto:20260516T020000
DTSTAMP:20260423T170035
CREATED:20260403T184442Z
LAST-MODIFIED:20260403T184442Z
UID:6496-1778878800-1778896800@www.revivaleventvenue.ca
SUMMARY:Mixtape 2.0 – Dance Party Encore
DESCRIPTION:Back by popular demand — and because your feedback was clear: don’t wait too long — we’re bringing the Mixtape experience back to Toronto. \nMixtape 2.0 – Dance Party Encore is officially here.  \nAfter an unforgettable first night filled with nostalgia\, high energy\, and a packed dance floor\, we’re returning with the premium live music experience that had everyone asking for more. This is more than a concert — it’s a full-on celebration of the golden era of Greek songwriting from the ’90s and early 2000s.  \nThe songs that shaped our teenage and early adult years… the lyrics we still know by heart… the hits that defined a generation.  \n Starring: Anastasia Kakagianni & Stavros Kanichis\n Music Direction & Maestro: Alexandros Batsoulis \nGet ready for a night designed to keep the energy high\, the dance floor packed\, and the memories unforgettable.  \n Ages: 16+ (valid ID required) \n Tickets are limited and seating is first come\, first served. Join us for the encore you asked for — another unforgettable night of music\, nostalgia\, and nonstop dancing.  Kindly note: All tickets are final sale and non-refundable.
URL:https://www.revivaleventvenue.ca/event/mixtape-2-0-dance-party-encore/
LOCATION:Revival Event Venue\, 783 College Street\, Toronto\, Ontario\, M6G 1C5\, Canada
ATTACH;FMTTYPE=image/jpeg:https://www.revivaleventvenue.ca/wp-content/uploads/2026/04/Mixtap2.0-May15.jpg
ORGANIZER;CN="Mixtape Team":MAILTO:NorthStageManagement@gmail.com
END:VEVENT
BEGIN:VEVENT
DTSTART;TZID=America/Toronto:20260516T220000
DTEND;TZID=America/Toronto:20260517T023000
DTSTAMP:20260423T170035
CREATED:20260401T020253Z
LAST-MODIFIED:20260401T021805Z
UID:6463-1778968800-1778985000@www.revivaleventvenue.ca
SUMMARY:BIGVIBE Toronto - Sorry Not Sorry [SNS]
DESCRIPTION:Join us for the 2nd edition of Sorry Not Sorry (SNS) in collaboration with Banga Events Group. After a sold-out first edition\, we are doing it again\, this time bigger!!! So come and enjoy non-stop music and dancing while we vibe to the best of Afrobeats\, Amapiano\, RnB\, Dancehall and everything in between from an all-star line up! \nIf you are a fan of African culture and music\, whether you are African or not\, this is where you need to be… \nSounds by: EMZ (UK)\, CROWD KONTROLLER (Nigeria)\, STEEZ\, MIDE NAIKE (UK) & NOISEY NADWA \nHosted by: MISTA DRE & AFROVERIFIED \nFor VIP Booths/Birthday celebrations\, DM @bigvibesounds on IG or TikTok\, or Email: info@bigvibesounds.com \n**By attending Bigvibe events you are subject to your photos and videos being taken and used for our promotional use for bigvibesounds.com\, @bigvibesounds\, @tbe_ca and print marketing.*
URL:https://www.revivaleventvenue.ca/event/bigvibe-toronto-sorry-not-sorry-sns/
LOCATION:Revival Event Venue\, 783 College Street\, Toronto\, Ontario\, M6G 1C5\, Canada
ATTACH;FMTTYPE=image/jpeg:https://www.revivaleventvenue.ca/wp-content/uploads/2026/03/SorryNotSorry-May16.jpg
END:VEVENT
BEGIN:VEVENT
DTSTART;TZID=America/Toronto:20260523T213000
DTEND;TZID=America/Toronto:20260524T023000
DTSTAMP:20260423T170035
CREATED:20260401T030727Z
LAST-MODIFIED:20260403T183941Z
UID:6468-1779571800-1779589800@www.revivaleventvenue.ca
SUMMARY:RENAISSANCE meets FLAVORS - ALL 90s . ALL Night
DESCRIPTION:w/DJ Spinna\, Agile\, Yogi\, & Mista Jiggz\nToronto’s longest running ALL 90s party & DJ Spinna’s 90s Hip-Hop & RnB party team up for the first time! Celebrating the bday of DJ Agile. \nBrown Eyes Entertainment in association with KeiStar Productions\, United Soul \, and DJAgile.com present: \nRENAISSANCE meets FLAVORS – ALL 90s . ALL Night\nToronto’s Longest Running ALL 90s Party x DJ Spinna’s Best of 90s Hip-Hop & RnB Party\nCelebrating the birthday of DJ Agile & all Geminis! \nMusical soundtrack by\nDJ SPINNA (NYC)\nAGILE\nYOGI\nMISTA JIGGZ \nFor booth reservations/bottle service\, email joe@revivalbar.com. For group bookings/info.\, email info@browneyesentertainment.com. \nNO GUESTLIST \nwww.browneyesentertainment.com | www.djspinna.com | www.unitedsoul.ca |www.revivaleventvenue.ca
URL:https://www.revivaleventvenue.ca/event/renaissance-meets-flavors-all-90s/
LOCATION:Revival Event Venue\, 783 College Street\, Toronto\, Ontario\, M6G 1C5\, Canada
ATTACH;FMTTYPE=image/jpeg:https://www.revivaleventvenue.ca/wp-content/uploads/2026/03/RENAISSANCEmeetsFLAVORS-May23-1.jpg
ORGANIZER;CN="Brown Eyes Entertainment":MAILTO:info@browneyesentertainment.com
END:VEVENT
END:VCALENDAR