BEGIN:VCALENDAR
VERSION:2.0
PRODID:-//Revival Event Venue - Toronto's Premiere Boutique Event Space - ECPv6.15.20//NONSGML v1.0//EN
CALSCALE:GREGORIAN
METHOD:PUBLISH
X-ORIGINAL-URL:https://www.revivaleventvenue.ca
X-WR-CALDESC:Events for Revival Event Venue - Toronto's Premiere Boutique Event Space
REFRESH-INTERVAL;VALUE=DURATION:PT1H
X-Robots-Tag:noindex
X-PUBLISHED-TTL:PT1H
BEGIN:VTIMEZONE
TZID:America/Toronto
BEGIN:DAYLIGHT
TZOFFSETFROM:-0500
TZOFFSETTO:-0400
TZNAME:EDT
DTSTART:20250309T070000
END:DAYLIGHT
BEGIN:STANDARD
TZOFFSETFROM:-0400
TZOFFSETTO:-0500
TZNAME:EST
DTSTART:20251102T060000
END:STANDARD
BEGIN:DAYLIGHT
TZOFFSETFROM:-0500
TZOFFSETTO:-0400
TZNAME:EDT
DTSTART:20260308T070000
END:DAYLIGHT
BEGIN:STANDARD
TZOFFSETFROM:-0400
TZOFFSETTO:-0500
TZNAME:EST
DTSTART:20261101T060000
END:STANDARD
BEGIN:DAYLIGHT
TZOFFSETFROM:-0500
TZOFFSETTO:-0400
TZNAME:EDT
DTSTART:20270314T070000
END:DAYLIGHT
BEGIN:STANDARD
TZOFFSETFROM:-0400
TZOFFSETTO:-0500
TZNAME:EST
DTSTART:20271107T060000
END:STANDARD
END:VTIMEZONE
BEGIN:VEVENT
DTSTART;TZID=America/Toronto:20260324T173000
DTEND;TZID=America/Toronto:20260324T203000
DTSTAMP:20260423T134951
CREATED:20260226T202635Z
LAST-MODIFIED:20260226T202635Z
UID:6443-1774373400-1774384200@www.revivaleventvenue.ca
SUMMARY:Hire Her\, Too: Black Women in Foodservice Networking Mixer
DESCRIPTION:Join us for an evening dedicated to connection\, opportunity\, and celebration of Black women shaping the future of foodservice. \n\n\n\n\nPresented by The Re-Seasoning Coalition and High Liner Foods \nJoin us for an evening dedicated to connection\, opportunity\, and the celebration of Black women shaping the future of foodservice. \nAbout the Event\nThree in ten Black women working in foodservice are seeking stable\, long-term careers\, yet their average career length in the industry is only 6 years. How do we create inclusive workplaces where Black women can thrive? By working with employers to fill the gaps. \nThe Hire Her Networking Mixer is more than a hiring event — it’s a space for meaningful industry connections rooted in equity\, authenticity\, and industry resilience. \nThe Re-Seasoning Coalition is bringing together: \n\nBlack women job seekers eager to bring their talent\, skills\, and vision to foodservice.\nFoodservice employers and leaders committed to building more inclusive\, diverse\, and equitable teams.\nCommunity partners supporting women’s professional development\n\nTogether\, we’ll cultivate an atmosphere of value exchange — where both job seekers and employers walk away with insight\, opportunity\, and new relationships that can spark lasting impact. \nWhy Attend?\nFor Job Seekers: Meet potential employers\, gain industry insights\, and connect with peers who share your journey. \nFor Employers: Access an exceptional network of Black women professionals ready to bring expertise\, creativity\, and leadership to your teams. \nFor Everyone: Be part of a community-driven experience that centers equity and celebrates the contributions of Black women in foodservice. \n\n\nWhat to Expect\n\nCurated networking activities designed to spark authentic conversation.\nInsightful moments that highlight opportunities\, lived experiences\, and leadership in foodservice and the corporate world.\nA vibrant\, supportive space to exchange ideas\, inspiration\, and opportunities.\n\nThis isn’t about charity or transactional hiring. This is an event focused on increasing Black representation in foodservice by creating opportunities for employers to build talent pipelines and connect with professionals who want to contribute to their best to the field. It’s a tangible opportunity to put equity\, diversity\, and inclusion into practice and it’s about ensureing the industry thrives because of it. \n\n\n\n\nNeed support with childcare or transportation? To assist jobseekers in getting to the event\, a limited number of $50 honorariums will be sent by ETF to attendees. \nLooking forward to seeing you there!
URL:https://www.revivaleventvenue.ca/event/hire-her-too-black-women-in-foodservice-networking-mixer/
LOCATION:Revival Event Venue\, 783 College Street\, Toronto\, Ontario\, M6G 1C5\, Canada
ATTACH;FMTTYPE=image/jpeg:https://www.revivaleventvenue.ca/wp-content/uploads/2026/02/HireHerToo-March24.jpg
END:VEVENT
END:VCALENDAR