BEGIN:VCALENDAR
VERSION:2.0
PRODID:-//Revival Event Venue - Toronto's Premiere Boutique Event Space - ECPv6.15.20//NONSGML v1.0//EN
CALSCALE:GREGORIAN
METHOD:PUBLISH
X-ORIGINAL-URL:https://www.revivaleventvenue.ca
X-WR-CALDESC:Events for Revival Event Venue - Toronto's Premiere Boutique Event Space
REFRESH-INTERVAL;VALUE=DURATION:PT1H
X-Robots-Tag:noindex
X-PUBLISHED-TTL:PT1H
BEGIN:VTIMEZONE
TZID:America/Toronto
BEGIN:DAYLIGHT
TZOFFSETFROM:-0500
TZOFFSETTO:-0400
TZNAME:EDT
DTSTART:20250309T070000
END:DAYLIGHT
BEGIN:STANDARD
TZOFFSETFROM:-0400
TZOFFSETTO:-0500
TZNAME:EST
DTSTART:20251102T060000
END:STANDARD
BEGIN:DAYLIGHT
TZOFFSETFROM:-0500
TZOFFSETTO:-0400
TZNAME:EDT
DTSTART:20260308T070000
END:DAYLIGHT
BEGIN:STANDARD
TZOFFSETFROM:-0400
TZOFFSETTO:-0500
TZNAME:EST
DTSTART:20261101T060000
END:STANDARD
BEGIN:DAYLIGHT
TZOFFSETFROM:-0500
TZOFFSETTO:-0400
TZNAME:EDT
DTSTART:20270314T070000
END:DAYLIGHT
BEGIN:STANDARD
TZOFFSETFROM:-0400
TZOFFSETTO:-0500
TZNAME:EST
DTSTART:20271107T060000
END:STANDARD
END:VTIMEZONE
BEGIN:VEVENT
DTSTART;TZID=America/Toronto:20260308T110000
DTEND;TZID=America/Toronto:20260308T150000
DTSTAMP:20260423T134852
CREATED:20260209T202345Z
LAST-MODIFIED:20260213T221948Z
UID:6418-1772967600-1772982000@www.revivaleventvenue.ca
SUMMARY:Painted Pink: Champagne + Brunch + Pink Pyjamas to Celebrate Women
DESCRIPTION:Step into a world seen through rose-coloured glasses. An elevated brunch curated for impact\, celebration and connection. \n\n\n\n\nPainted Pink is a prominent pink pyjama party celebrating International Women’s Day with 200 guests invited to an elevated afternoon of pink champagne\, rosé wines\, curated bites\, live music\, and immersive experiences at Revival in Little Italy. \nThis exclusive brunch-style event gathers women leaders\, founders\, executives\, investors\, stay-at-home mothers\, and changemakers for a joyful celebration of resilience\, strength\, and success—honouring women in all stages and forms of leadership. \nProceeds support Lil B.I.R.D.’s mission to deliver consulting\, strategy\, and growth support to rural-based women business owners navigating constrained markets. \nTogether\, making small towns strong.\nTicket options:\nIndividual tickets. Standing room option: $125.00 pp which includes pink pyjamas (delivered to your location and in your preferred size) enjoy complimentary hor doerves\, welcome cocktails and a thank you gift for your attendance. Bar stool table\, standing room only. \nIndividual tickets. Table seating with plated meal: $175.00 pp. Table seating\, includes pink pyjamas (delivered to your location and in your preferred size) enjoy complimentary hor doerves\, welcome cocktails\, seated guests will enjoy a plated lunch and includes bottled wine at each table. Gift bags per person. \nSponsored table for 12 guests (please contact for more information\, details below) \nATTIRE request: Pink pyjamas are encouraged and included with every ticket. Comfort and confidence are key. Guests may alternatively wear an all-pink pyjama or coordinated pink set. \nWhat guests can expect:\nOn March 8th 2026\, Guests will arrive at 11am to enjoy a warm welcome with performanaces by juno award winning jazz musicians\, performing an upbeat ensemble while guests settle in to enjoy the interactive stations\, hor doerves\, and welcome cocktails. \n12:30 pm Lunch service begins with a highlight reel of women leaders who have rose above their challenges with stories of success and survival. \n1:00 pm Kicks the DJ will lift the energy to invite guests to dance\, relax\, mingle or continue to enjoy the various interative stations. \nWe have a generous list of sponosrs that have contributed jewelery\, sun glasses\, skin care\, champagne station\, wine sampling\, athletic wear as gifts and as give aways. \nSponsorship Options are also available:\nWe invite organizations to demonstrate meaningful leadership by hosting tables of 10 exceptional women and aligning their brand with impact\, visibility\, and advocacy. \nGold Table Sponsor (4 available) \nAn elevated hosting experience designed for impact and visibility. \n• Hosted table for 12 guests\n• Three-course plated meal\n• Unlimited bar service\n• Luxury swag bag for each guest\n• Prime table placement within the venue\n• Branded table signage\n• Logo placement across event signage\, digital promotions\, and marketing materials\, in advance of the event and post event summary. \nEntertainment Sponsor (exclusive – 1 available)\nPosition your brand as the energy and cultural heartbeat of the event. \n• Exclusive recognition as Entertainment Sponsor\n• Brand visibility on stage signage and digital screens\n• Live verbal recognition by the emcee throughout the program\n• Brand association with the most memorable moments of the event\n• Inclusion in pre- and post-event marketing and social coverage \n• Admission for 8 guests \nMain Cocktail Bar Sponsor (exclusive – 1 available) \nPosition your brand at the most visited destination of the event. \n• Prominent naming rights at the main cocktail bar\n• High-visibility bar signage and branded cocktail napkins\n• Brand presence where guests gather\, network\, and celebrate\n• Inclusion in event signage\, social media\, and marketing materials \n• Table seating for 10 guests \nAs glasses are raised and conversations flow\, your brand becomes part of the shared experience.
URL:https://www.revivaleventvenue.ca/event/painted-pink-champagne-brunch-pink-pyjamas-to-celebrate-women/
LOCATION:Revival Event Venue\, 783 College Street\, Toronto\, Ontario\, M6G 1C5\, Canada
ATTACH;FMTTYPE=image/jpeg:https://www.revivaleventvenue.ca/wp-content/uploads/2026/02/PaintedPink-March8.jpg
END:VEVENT
END:VCALENDAR