BEGIN:VCALENDAR
VERSION:2.0
PRODID:-//Revival Event Venue - Toronto's Premiere Boutique Event Space - ECPv6.15.20//NONSGML v1.0//EN
CALSCALE:GREGORIAN
METHOD:PUBLISH
X-ORIGINAL-URL:https://www.revivaleventvenue.ca
X-WR-CALDESC:Events for Revival Event Venue - Toronto's Premiere Boutique Event Space
REFRESH-INTERVAL;VALUE=DURATION:PT1H
X-Robots-Tag:noindex
X-PUBLISHED-TTL:PT1H
BEGIN:VTIMEZONE
TZID:America/Toronto
BEGIN:DAYLIGHT
TZOFFSETFROM:-0500
TZOFFSETTO:-0400
TZNAME:EDT
DTSTART:20250309T070000
END:DAYLIGHT
BEGIN:STANDARD
TZOFFSETFROM:-0400
TZOFFSETTO:-0500
TZNAME:EST
DTSTART:20251102T060000
END:STANDARD
BEGIN:DAYLIGHT
TZOFFSETFROM:-0500
TZOFFSETTO:-0400
TZNAME:EDT
DTSTART:20260308T070000
END:DAYLIGHT
BEGIN:STANDARD
TZOFFSETFROM:-0400
TZOFFSETTO:-0500
TZNAME:EST
DTSTART:20261101T060000
END:STANDARD
BEGIN:DAYLIGHT
TZOFFSETFROM:-0500
TZOFFSETTO:-0400
TZNAME:EDT
DTSTART:20270314T070000
END:DAYLIGHT
BEGIN:STANDARD
TZOFFSETFROM:-0400
TZOFFSETTO:-0500
TZNAME:EST
DTSTART:20271107T060000
END:STANDARD
END:VTIMEZONE
BEGIN:VEVENT
DTSTART;TZID=America/Toronto:20260213T220000
DTEND;TZID=America/Toronto:20260214T023000
DTSTAMP:20260423T152356
CREATED:20260106T224412Z
LAST-MODIFIED:20260106T224412Z
UID:6375-1771020000-1771036200@www.revivaleventvenue.ca
SUMMARY:Heart Breaker's Ball
DESCRIPTION:A masquerade where romance takes a backseat and self-love reigns supreme!\n\n\n\nYou’re Invited to the 6th Annual Heartbreaker’s Ball: An all red masquerade 🥀 \nOn February 13th join us once more in the lush red garden of self-indulgence. Prepare for a feast\, for both the senses and soul. Devour the night as you wander through an evening filled with lush decadence and all the elegance of a surreal masquerade ball. \nAbout the Heartbreaker’s Ball:\nAfter 5 years of journeying through a crimson world we find outselves in the garden of creation. This is more than just a party; it’s a celebration of community\, creativity\, and connection. All proceeds will go to support the adventures of Tarna the Art Car. \nWhat to Wear:\nDress to express in your most extravagant red attire. Add a touch of mystery with a masquerade mask and let your best self shine through. Masks will also be available at our arts market when you arrive. \nWhat to expect:\n✨ Enchanting circus performances \n✨ Arts market with masks for sale \n✨ Dancing with music that moves the soul \nCelebrate with us and revel in the sweetness of self-love. Let your own juicy wisdom bloom as we nourish ourselves into new beginnings. Sip\, savour and sofen inward as you put yourself first\, and see you on the dance floor! 💔
URL:https://www.revivaleventvenue.ca/event/heart-breakers-ball-2/
LOCATION:Revival Event Venue\, 783 College Street\, Toronto\, Ontario\, M6G 1C5\, Canada
ATTACH;FMTTYPE=image/jpeg:https://www.revivaleventvenue.ca/wp-content/uploads/2026/01/HeartbreakersBall-Feb13.jpg
ORGANIZER;CN="Tarna the Jackalope":MAILTO:contact@tarna.ca
END:VEVENT
END:VCALENDAR