BEGIN:VCALENDAR
VERSION:2.0
PRODID:-//Revival Event Venue - Toronto's Premiere Boutique Event Space - ECPv6.15.20//NONSGML v1.0//EN
CALSCALE:GREGORIAN
METHOD:PUBLISH
X-WR-CALNAME:Revival Event Venue - Toronto's Premiere Boutique Event Space
X-ORIGINAL-URL:https://www.revivaleventvenue.ca
X-WR-CALDESC:Events for Revival Event Venue - Toronto's Premiere Boutique Event Space
REFRESH-INTERVAL;VALUE=DURATION:PT1H
X-Robots-Tag:noindex
X-PUBLISHED-TTL:PT1H
BEGIN:VTIMEZONE
TZID:America/Toronto
BEGIN:DAYLIGHT
TZOFFSETFROM:-0500
TZOFFSETTO:-0400
TZNAME:EDT
DTSTART:20250309T070000
END:DAYLIGHT
BEGIN:STANDARD
TZOFFSETFROM:-0400
TZOFFSETTO:-0500
TZNAME:EST
DTSTART:20251102T060000
END:STANDARD
BEGIN:DAYLIGHT
TZOFFSETFROM:-0500
TZOFFSETTO:-0400
TZNAME:EDT
DTSTART:20260308T070000
END:DAYLIGHT
BEGIN:STANDARD
TZOFFSETFROM:-0400
TZOFFSETTO:-0500
TZNAME:EST
DTSTART:20261101T060000
END:STANDARD
BEGIN:DAYLIGHT
TZOFFSETFROM:-0500
TZOFFSETTO:-0400
TZNAME:EDT
DTSTART:20270314T070000
END:DAYLIGHT
BEGIN:STANDARD
TZOFFSETFROM:-0400
TZOFFSETTO:-0500
TZNAME:EST
DTSTART:20271107T060000
END:STANDARD
END:VTIMEZONE
BEGIN:VEVENT
DTSTART;TZID=America/Toronto:20260128T173000
DTEND;TZID=America/Toronto:20260128T220000
DTSTAMP:20260423T152228
CREATED:20260120T233438Z
LAST-MODIFIED:20260120T233537Z
UID:6390-1769621400-1769637600@www.revivaleventvenue.ca
SUMMARY:AMA Toronto 10th Annual Agency Panel
DESCRIPTION:With a quick nod to master-marketer and musician David Bowie\, this evening is about “Ch-ch-changes” and becoming future ready.\n\n\n\nWith a quick nod to master-marketer and musician David Bowie\, the 10 th annual Agency \nPanel is all about “CH-CH-Changes.” \nTurmoil or Transformation? \nTap the experience\, foresight and mindset of some of the industry’s brightest leaders our bellwether marketers and prepare yourself and your company for what’s ahead. \nLooking back. Planning forward. \nFive progressive agency leaders will be looking back on the changes that have shaped our industry over the past decade — and discussing the marketing challenges and opportunities ahead \nSpeaker Line-Up \nSpecial Guest: \nFrank Palmer\, CEO\, Brand Frank \nAgency Panel Moderator: \nSean Stanleigh\, Studio Head\, Globe Media Group \nPanelists: \nÉric Blais\, president\, Headspace Marketing\, Marketing Columnist \nArmida Ascano\, Futurist\, Chief Content Officer\, Trend Hunter \nSabaa Quao\, President\, PlusCo Venture Studio \nAgenda\nRegistration & Networking \n5:30 – 6:30 p.m. \nStart your evening by joining us for registration\, some light bites and refreshments. \nNetwork\, connect with your peers and get ready for an inspiring event ahead. \nWelcome – Opening Remarks \n6:30 – 6:45 \nLand Acknowledgement and Opening Remarks \n“Then. Now. Next” – A Fireside Chat with Marketing Legend Frank Palmer \n6:45 – 7:30 \nOpening the show\, Marketing Legend @Frank Palmer\, CEO of Brand Frank\, returns to Toronto for a fire-side chat and audience Q&A. Frank will speak about navigating the past decade of changes\, as well as the current AI revolution. He’s going to tell you what you need to hear\, not what you want to hear. \n“Frankly Speaking” Audience Q&A with Frank Palmer \n7:30 – 7:45 \nGet advice from a Marketing Legend! Ask Frank about advertising then\, now and what’s next. Get ready! This is a rare opportunity to ask one of Canada’s most sage and successful creative leaders a burning question or two! \nBreak \n7:45 – 8:00 \nCH-CH-Changes – The 2026 Agency Panel \n8:00 – 9:00 \n“Look out you rock and rollers!” @Sean Stanleigh\, head of the Content Studio at The Globe & Mail\, will moderate this year’s Agency Panel discussion. The panel will pick up the conversation about the changes rocking our industry to deliver a range of insights\, advice and stories. \nCH-CH-Changes – Audience Q&A \n9:00 – 9:15 \nFeeling like Aladdin Sane? Go deeper. Quiz your favorite panel member about the \nchanges rocking your marketing department and transforming your role. \n9:15 – Networking \nEnd your evening by joining us for refreshments\, conversation and networking. Meet Frank Palmer and the panelists\, connect with your peers. \nProud Event Sponsors: \nCvent\nStonehenge Productions\nScore Promotions\nThe Globe Media Group
URL:https://www.revivaleventvenue.ca/event/ama-toronto-10th-annual-agency-panel/
LOCATION:Revival Event Venue\, 783 College Street\, Toronto\, Ontario\, M6G 1C5\, Canada
ATTACH;FMTTYPE=image/jpeg:https://www.revivaleventvenue.ca/wp-content/uploads/2026/01/AMAtorontoAgencyPanel-Jan28.jpg
END:VEVENT
END:VCALENDAR