BEGIN:VCALENDAR
VERSION:2.0
PRODID:-//Revival Event Venue - Toronto's Premiere Boutique Event Space - ECPv6.15.20//NONSGML v1.0//EN
CALSCALE:GREGORIAN
METHOD:PUBLISH
X-ORIGINAL-URL:https://www.revivaleventvenue.ca
X-WR-CALDESC:Events for Revival Event Venue - Toronto's Premiere Boutique Event Space
REFRESH-INTERVAL;VALUE=DURATION:PT1H
X-Robots-Tag:noindex
X-PUBLISHED-TTL:PT1H
BEGIN:VTIMEZONE
TZID:America/Toronto
BEGIN:DAYLIGHT
TZOFFSETFROM:-0500
TZOFFSETTO:-0400
TZNAME:EDT
DTSTART:20250309T070000
END:DAYLIGHT
BEGIN:STANDARD
TZOFFSETFROM:-0400
TZOFFSETTO:-0500
TZNAME:EST
DTSTART:20251102T060000
END:STANDARD
BEGIN:DAYLIGHT
TZOFFSETFROM:-0500
TZOFFSETTO:-0400
TZNAME:EDT
DTSTART:20260308T070000
END:DAYLIGHT
BEGIN:STANDARD
TZOFFSETFROM:-0400
TZOFFSETTO:-0500
TZNAME:EST
DTSTART:20261101T060000
END:STANDARD
BEGIN:DAYLIGHT
TZOFFSETFROM:-0500
TZOFFSETTO:-0400
TZNAME:EDT
DTSTART:20270314T070000
END:DAYLIGHT
BEGIN:STANDARD
TZOFFSETFROM:-0400
TZOFFSETTO:-0500
TZNAME:EST
DTSTART:20271107T060000
END:STANDARD
END:VTIMEZONE
BEGIN:VEVENT
DTSTART;TZID=America/Toronto:20260103T220000
DTEND;TZID=America/Toronto:20260104T023000
DTSTAMP:20260423T165809
CREATED:20251209T163006Z
LAST-MODIFIED:20251209T163406Z
UID:6355-1767477600-1767493800@www.revivaleventvenue.ca
SUMMARY:Do You Love House w/ Julie McKnight Live
DESCRIPTION:United Soul & Junior Palmer Events proudly present:\nDO YOU LOVE HOUSE 2026 (Capricorn Edition)** \nfeaturing:\nJULIE MCKNIGHT Live\n(Vocalist for hit songs: Finally\, Diamond Life\, Home\, Still Here …) \nalongside:\nDJ YOGI\nJOJO FLORES\nJUNIOR PALMER\nGMONEY & CARTEL\nSTARTING FROM SCRATCH\nSWEET TOUCH FOUNDATION \nlive artwork: Andrés Correa\n$20 / $25 /$30 / $35 Tickets\n**celebrating the birthdays for Julie McKnight\, Junior Palmer & GMoney \nJulie’s bio\nBorn in 1972 in Pottstown\, PA\, Julie McKnight is a daughter of a Seventh-Day Adventist Minister. Julie’s musical influences begins with her mother Saundra Brooks\, who performed at the age of 19 at the Apollo Theatre in New York City after being coerced by her father\, Norris Turney\, a multi-reed player and member of Duke Ellington’s Orchestra. Aretha Franklin may have won that night but Saundra Brooks brought the house down with her rendition of “What A Wonderful World.” As the old adage says\, “The Apple Doesn’t Fall Far From The Tree.” \nHaving moved to Los Angeles in the 80’s\, Julie’s charismatic father\, Victor Sr.\, welcomed people of all faiths and backgrounds into their home. During this time\, Julie and her family formed lasting relationships with some of the greatest in music history. Some of these legendary artists include: Jazz Singer and Entertainer Extraordinaire\, Nancy Wilson\, The Original King of Rock and Roll\, Little Richard\, Nina Simone and Tony-Award Winning Actor\, Singer and Songwriter\, Clifton Davis. \nJulie has collaborated with\, and supplied guest vocals for the likes of Earth\, Wind and Fire\, The Emotions\, and her former husband\, Brian McKnight. Coming into her own in the late 90’s\, Julie\, herself would let her own star shine bright enjoying a variety of accolades to include\, winning honors for “Finally” the 2001 MTV2 Dancestar Music Awards Song of the Year\, Best vocalist\, and Best live PA nominations 2005 Dance Music Awards. Julie has brought down the house performing at the majority of the world’s hottest stages\, festivals and nightclubs spanning from N.Y. and San Francisco to the Isle of Ibiza.
URL:https://www.revivaleventvenue.ca/event/do-you-love-house-w-julie-mcknight-live/
LOCATION:Revival Event Venue\, 783 College Street\, Toronto\, Ontario\, M6G 1C5\, Canada
ATTACH;FMTTYPE=image/jpeg:https://www.revivaleventvenue.ca/wp-content/uploads/2025/12/Unknown-3.jpg
END:VEVENT
END:VCALENDAR