BEGIN:VCALENDAR
VERSION:2.0
PRODID:-//Revival Event Venue - Toronto's Premiere Boutique Event Space - ECPv6.15.20//NONSGML v1.0//EN
CALSCALE:GREGORIAN
METHOD:PUBLISH
X-WR-CALNAME:Revival Event Venue - Toronto's Premiere Boutique Event Space
X-ORIGINAL-URL:https://www.revivaleventvenue.ca
X-WR-CALDESC:Events for Revival Event Venue - Toronto's Premiere Boutique Event Space
REFRESH-INTERVAL;VALUE=DURATION:PT1H
X-Robots-Tag:noindex
X-PUBLISHED-TTL:PT1H
BEGIN:VTIMEZONE
TZID:America/Toronto
BEGIN:DAYLIGHT
TZOFFSETFROM:-0500
TZOFFSETTO:-0400
TZNAME:EDT
DTSTART:20240310T070000
END:DAYLIGHT
BEGIN:STANDARD
TZOFFSETFROM:-0400
TZOFFSETTO:-0500
TZNAME:EST
DTSTART:20241103T060000
END:STANDARD
BEGIN:DAYLIGHT
TZOFFSETFROM:-0500
TZOFFSETTO:-0400
TZNAME:EDT
DTSTART:20250309T070000
END:DAYLIGHT
BEGIN:STANDARD
TZOFFSETFROM:-0400
TZOFFSETTO:-0500
TZNAME:EST
DTSTART:20251102T060000
END:STANDARD
BEGIN:DAYLIGHT
TZOFFSETFROM:-0500
TZOFFSETTO:-0400
TZNAME:EDT
DTSTART:20260308T070000
END:DAYLIGHT
BEGIN:STANDARD
TZOFFSETFROM:-0400
TZOFFSETTO:-0500
TZNAME:EST
DTSTART:20261101T060000
END:STANDARD
END:VTIMEZONE
BEGIN:VEVENT
DTSTART;TZID=America/Toronto:20250720T120000
DTEND;TZID=America/Toronto:20250720T180000
DTSTAMP:20260424T124503
CREATED:20250318T215007Z
LAST-MODIFIED:20250320T190904Z
UID:5942-1753012800-1753034400@www.revivaleventvenue.ca
SUMMARY:Something Strange Oddities Market & Show
DESCRIPTION:Join us at the Something Strange Oddities Market and Expo for a quirky and unique shopping experience filled with all things weird and wonderful.\nWelcome to the Something Strange Oddities Market and Expo! Join us at the Revival Bar and Event Venue for a day filled with all things weird and wonderful. Explore a diverse selection of unique items\, from creepy curiosities to mystical treasures. Meet fellow enthusiasts\, artists\, and vendors who share your passion for the unusual. Whether you’re a seasoned collector or just curious\, this event is sure to delight and intrigue. Don’t miss out on this one-of-a-kind experience!
URL:https://www.revivaleventvenue.ca/event/something-strange-oddieies-market-show/
LOCATION:Revival Event Venue\, 783 College Street\, Toronto\, Ontario\, M6G 1C5\, Canada
ATTACH;FMTTYPE=image/jpeg:https://www.revivaleventvenue.ca/wp-content/uploads/2025/03/SomethingStrange-July20.jpg
END:VEVENT
END:VCALENDAR