BEGIN:VCALENDAR
VERSION:2.0
PRODID:-//Revival Event Venue - Toronto's Premiere Boutique Event Space - ECPv6.15.20//NONSGML v1.0//EN
CALSCALE:GREGORIAN
METHOD:PUBLISH
X-ORIGINAL-URL:https://www.revivaleventvenue.ca
X-WR-CALDESC:Events for Revival Event Venue - Toronto's Premiere Boutique Event Space
REFRESH-INTERVAL;VALUE=DURATION:PT1H
X-Robots-Tag:noindex
X-PUBLISHED-TTL:PT1H
BEGIN:VTIMEZONE
TZID:America/Toronto
BEGIN:DAYLIGHT
TZOFFSETFROM:-0500
TZOFFSETTO:-0400
TZNAME:EDT
DTSTART:20240310T070000
END:DAYLIGHT
BEGIN:STANDARD
TZOFFSETFROM:-0400
TZOFFSETTO:-0500
TZNAME:EST
DTSTART:20241103T060000
END:STANDARD
BEGIN:DAYLIGHT
TZOFFSETFROM:-0500
TZOFFSETTO:-0400
TZNAME:EDT
DTSTART:20250309T070000
END:DAYLIGHT
BEGIN:STANDARD
TZOFFSETFROM:-0400
TZOFFSETTO:-0500
TZNAME:EST
DTSTART:20251102T060000
END:STANDARD
BEGIN:DAYLIGHT
TZOFFSETFROM:-0500
TZOFFSETTO:-0400
TZNAME:EDT
DTSTART:20260308T070000
END:DAYLIGHT
BEGIN:STANDARD
TZOFFSETFROM:-0400
TZOFFSETTO:-0500
TZNAME:EST
DTSTART:20261101T060000
END:STANDARD
END:VTIMEZONE
BEGIN:VEVENT
DTSTART;TZID=America/Toronto:20250531T200000
DTEND;TZID=America/Toronto:20250601T010000
DTSTAMP:20260424T210200
CREATED:20250402T190545Z
LAST-MODIFIED:20250408T210216Z
UID:5976-1748721600-1748739600@www.revivaleventvenue.ca
SUMMARY:Neon Jungle Pole Show & Party
DESCRIPTION:Celebrate feminine embodiment with electrifying pole\, burlesque & drag performances at our Neon Jungle Show & Party on May 31st in Toronto! \nJoin fEMBODY for an unforgettable night at our Neon Jungle Pole Show. \nJoin us and 17 talented pole dancers\, burlesque dancers\, and drag queens to celebrate femininity. Get ready to witness some jaw-dropping performances in an electrifying\, neon jungle-themed atmosphere in Toronto. Don’t miss out on this exciting event that promises a fun and entertaining night. Limited spots available at each ticket tier. Grab your seat now! \n*This is a SAFE & INCLUSIVE space for all BIPOC\, LGBTQIA+\, Skrippers & SWers! If you don’t support this\, don’t come  \nDress Code: Anything that fits the theme! Think: neon-coloured clothes\, glow in the dark jewelry/makeup\, jungle-themed prints and patterns. This is not a casual event so look cute and dress for the club. \nSchedule\n7pm – Doors\, 8-10pm – Pole Show \n10pm+ – After Party [shibari act\, live DJ\, dance floor\, glow in the dark body painting\, vendor access\, drinks and food available for purchase] \nShibari: Kato & Foxxy \nBody Painting: Cynthia
URL:https://www.revivaleventvenue.ca/event/neon-jungle-pole-show-party/
LOCATION:Revival Event Venue\, 783 College Street\, Toronto\, Ontario\, M6G 1C5\, Canada
ATTACH;FMTTYPE=image/jpeg:https://www.revivaleventvenue.ca/wp-content/uploads/2025/04/NeonJunglePoleShow-May31.jpg
ORGANIZER;CN="fEMBODY Experiences":MAILTO:info@fembodystudio.com
END:VEVENT
END:VCALENDAR