BEGIN:VCALENDAR
VERSION:2.0
PRODID:-//Revival Event Venue - Toronto's Premiere Boutique Event Space - ECPv6.15.20//NONSGML v1.0//EN
CALSCALE:GREGORIAN
METHOD:PUBLISH
X-WR-CALNAME:Revival Event Venue - Toronto's Premiere Boutique Event Space
X-ORIGINAL-URL:https://www.revivaleventvenue.ca
X-WR-CALDESC:Events for Revival Event Venue - Toronto's Premiere Boutique Event Space
REFRESH-INTERVAL;VALUE=DURATION:PT1H
X-Robots-Tag:noindex
X-PUBLISHED-TTL:PT1H
BEGIN:VTIMEZONE
TZID:America/Toronto
BEGIN:DAYLIGHT
TZOFFSETFROM:-0500
TZOFFSETTO:-0400
TZNAME:EDT
DTSTART:20230312T070000
END:DAYLIGHT
BEGIN:STANDARD
TZOFFSETFROM:-0400
TZOFFSETTO:-0500
TZNAME:EST
DTSTART:20231105T060000
END:STANDARD
BEGIN:DAYLIGHT
TZOFFSETFROM:-0500
TZOFFSETTO:-0400
TZNAME:EDT
DTSTART:20240310T070000
END:DAYLIGHT
BEGIN:STANDARD
TZOFFSETFROM:-0400
TZOFFSETTO:-0500
TZNAME:EST
DTSTART:20241103T060000
END:STANDARD
BEGIN:DAYLIGHT
TZOFFSETFROM:-0500
TZOFFSETTO:-0400
TZNAME:EDT
DTSTART:20250309T070000
END:DAYLIGHT
BEGIN:STANDARD
TZOFFSETFROM:-0400
TZOFFSETTO:-0500
TZNAME:EST
DTSTART:20251102T060000
END:STANDARD
END:VTIMEZONE
BEGIN:VEVENT
DTSTART;TZID=America/Toronto:20241130T190000
DTEND;TZID=America/Toronto:20241130T220000
DTSTAMP:20260425T085142
CREATED:20240904T195658Z
LAST-MODIFIED:20241121T003050Z
UID:5706-1732993200-1733004000@www.revivaleventvenue.ca
SUMMARY:Dirty Dance of the Dragons: George R.R. Martin Burlesque
DESCRIPTION:Did Season 2 of House of the Dragon feel like one big tease? Do you feel like weirwood roots could grow into you in the time it will take to get new A Song of Ice and Fire content on your TV? Would you rather be teased in a really fun way in the meantime?? \nWell\, you’re in the right place! Back in 2019\, we said goodbye to Game of Thrones Burlesque along with Game of Thrones\, and 2023 brought the birth of House of the Dragon Burlesque. Now\, these two close relatives have united\, in true Targaryen style\, to create an offspring that’s hotter than dragonfire: George R.R. Martin Burlesque! This new production from Scarlett LaFlamme\, the producer of Canada’s first\, and only annual\, Game of Thrones Burlesque show\, will feature favourite and love-to-hate characters from both Game of Thrones and House of the Dragon! Over the years\, it will evolve to encompass all of the shows in the George R.R. Martin television universe. \nAll must tease! Featuring more reveals than a weirwood tree to Daemon Targaryen\, by an expert lineup of Toronto burlesque pros: \nARRAKISS\nBELLAMIE BEASTLY\nCHELLA BELLA\nCOCO LA CREME\nEL TORO\nFANNIE FULLENWEIDER\nHENRIETTA VIII\nRUBIE MAGNITUDE\nSCARLETT LAFLAMME\nTANYA CHEEX\nTITUS ANDROGYNOUS \nHosted by:\nHELEN OF TRONNA \nSome performers are pulling double duty as HotD and GoT characters\, so expect lots of bump n’ grind for your buck! \nSponsored by:\nANYKEY PRESS\nESTHER DE VILLE\nRUBIE TAKES SHOTS\nmore TBA! \nVendors:\nANYKEY PRESS\nmore TBA! \nPlease note that there is NO AUDIENCE PHOTOGRAPHY OR RECORDING of the performances permitted. A professional photographer will be onsite. \nWinter may be coming\, but it’ll be hotter than the dragonpit inside Revival on November 30! Advance tickets are strongly recommended to avoid being left out in the cold!
URL:https://www.revivaleventvenue.ca/event/dirty-dance-of-the-dragons-george-r-r-martin-burlesque/
LOCATION:Revival Event Venue\, 783 College Street\, Toronto\, Ontario\, M6G 1C5\, Canada
ATTACH;FMTTYPE=image/jpeg:https://www.revivaleventvenue.ca/wp-content/uploads/2024/09/DirtyDanceDragonsBurlesque-Nov30LR.jpg
END:VEVENT
BEGIN:VEVENT
DTSTART;TZID=America/Toronto:20241130T220000
DTEND;TZID=America/Toronto:20241201T030000
DTSTAMP:20260425T085142
CREATED:20240909T161628Z
LAST-MODIFIED:20240910T223538Z
UID:5718-1733004000-1733022000@www.revivaleventvenue.ca
SUMMARY:The 2000s Party
DESCRIPTION:2Nice\, Kamakacci Juice\, C4L\, DJ DK presents The 2000s Party. With music by DJ 2Nice\, DJ DK\, Blax dun da Place. This party will be rocked by MC Crazy Chris\, MC Deemz. \nHosted by Kamakacci Juice\, Cease Leon\, KeepingitKeezy\, Davy Tatted Up\, Drewskey the Entertainer\, They Call Her Glossy\, Stress. \nCelebrating the birthday of Stress and all other Sagittarius’s. Dresscode ‘think early 2000’s hiphop fashion. 19+ event.
URL:https://www.revivaleventvenue.ca/event/the-2000s-party/
LOCATION:Revival Event Venue\, 783 College Street\, Toronto\, Ontario\, M6G 1C5\, Canada
ATTACH;FMTTYPE=image/jpeg:https://www.revivaleventvenue.ca/wp-content/uploads/2024/09/2000sParty-Nov30v2.jpg
END:VEVENT
END:VCALENDAR