BEGIN:VCALENDAR
VERSION:2.0
PRODID:-//Revival Event Venue - Toronto's Premiere Boutique Event Space - ECPv6.15.20//NONSGML v1.0//EN
CALSCALE:GREGORIAN
METHOD:PUBLISH
X-WR-CALNAME:Revival Event Venue - Toronto's Premiere Boutique Event Space
X-ORIGINAL-URL:https://www.revivaleventvenue.ca
X-WR-CALDESC:Events for Revival Event Venue - Toronto's Premiere Boutique Event Space
REFRESH-INTERVAL;VALUE=DURATION:PT1H
X-Robots-Tag:noindex
X-PUBLISHED-TTL:PT1H
BEGIN:VTIMEZONE
TZID:America/Toronto
BEGIN:DAYLIGHT
TZOFFSETFROM:-0500
TZOFFSETTO:-0400
TZNAME:EDT
DTSTART:20230312T070000
END:DAYLIGHT
BEGIN:STANDARD
TZOFFSETFROM:-0400
TZOFFSETTO:-0500
TZNAME:EST
DTSTART:20231105T060000
END:STANDARD
BEGIN:DAYLIGHT
TZOFFSETFROM:-0500
TZOFFSETTO:-0400
TZNAME:EDT
DTSTART:20240310T070000
END:DAYLIGHT
BEGIN:STANDARD
TZOFFSETFROM:-0400
TZOFFSETTO:-0500
TZNAME:EST
DTSTART:20241103T060000
END:STANDARD
BEGIN:DAYLIGHT
TZOFFSETFROM:-0500
TZOFFSETTO:-0400
TZNAME:EDT
DTSTART:20250309T070000
END:DAYLIGHT
BEGIN:STANDARD
TZOFFSETFROM:-0400
TZOFFSETTO:-0500
TZNAME:EST
DTSTART:20251102T060000
END:STANDARD
END:VTIMEZONE
BEGIN:VEVENT
DTSTART;TZID=America/Toronto:20241109T220000
DTEND;TZID=America/Toronto:20241110T030000
DTSTAMP:20260425T102626
CREATED:20241021T135323Z
LAST-MODIFIED:20241021T135700Z
UID:5768-1731189600-1731207600@www.revivaleventvenue.ca
SUMMARY:Garage 416 x Solid Garage x Therapy
DESCRIPTION:A night filled with house music\nGARAGE 416\, SOLID GARAGE & THERAPY team up for a night of house music featuring Jojoflores (MTL)\, DJ YOGI\, Jay NuFunk & Sacha Williamson (live). \n\nDJ Jojoflores (birthday set)\nDJ Yogi\nDJ Jay NuFunk\nSacha Williamson (vocal performance)\n\nHosted by: Pedro HotStepper & Brigette \nFor the first time ever\, GARAGE 416\, SOLID GARAGE & THERAPY team up for a special night of House Music featuring Jojoflores (MTL)\, DJ YOGI\, Jay Nufunk and vocalist Sacha Williamson. Calling all Scorpios as we celebrate the actual Birthday of Jojoflores at Revival Bar. This is a night that you don’t want to miss!
URL:https://www.revivaleventvenue.ca/event/garage-416-x-solid-garage-x-therapy/
LOCATION:Revival Event Venue\, 783 College Street\, Toronto\, Ontario\, M6G 1C5\, Canada
ATTACH;FMTTYPE=image/jpeg:https://www.revivaleventvenue.ca/wp-content/uploads/2024/10/GarageXSolidGarageXtherapy-Nov9.jpg
END:VEVENT
END:VCALENDAR