BEGIN:VCALENDAR
VERSION:2.0
PRODID:-//Revival Event Venue - Toronto's Premiere Boutique Event Space - ECPv6.15.20//NONSGML v1.0//EN
CALSCALE:GREGORIAN
METHOD:PUBLISH
X-ORIGINAL-URL:https://www.revivaleventvenue.ca
X-WR-CALDESC:Events for Revival Event Venue - Toronto's Premiere Boutique Event Space
REFRESH-INTERVAL;VALUE=DURATION:PT1H
X-Robots-Tag:noindex
X-PUBLISHED-TTL:PT1H
BEGIN:VTIMEZONE
TZID:America/Toronto
BEGIN:DAYLIGHT
TZOFFSETFROM:-0500
TZOFFSETTO:-0400
TZNAME:EDT
DTSTART:20230312T070000
END:DAYLIGHT
BEGIN:STANDARD
TZOFFSETFROM:-0400
TZOFFSETTO:-0500
TZNAME:EST
DTSTART:20231105T060000
END:STANDARD
BEGIN:DAYLIGHT
TZOFFSETFROM:-0500
TZOFFSETTO:-0400
TZNAME:EDT
DTSTART:20240310T070000
END:DAYLIGHT
BEGIN:STANDARD
TZOFFSETFROM:-0400
TZOFFSETTO:-0500
TZNAME:EST
DTSTART:20241103T060000
END:STANDARD
BEGIN:DAYLIGHT
TZOFFSETFROM:-0500
TZOFFSETTO:-0400
TZNAME:EDT
DTSTART:20250309T070000
END:DAYLIGHT
BEGIN:STANDARD
TZOFFSETFROM:-0400
TZOFFSETTO:-0500
TZNAME:EST
DTSTART:20251102T060000
END:STANDARD
END:VTIMEZONE
BEGIN:VEVENT
DTSTART;TZID=America/Toronto:20241102T220000
DTEND;TZID=America/Toronto:20241103T033000
DTSTAMP:20260425T115628
CREATED:20241011T203227Z
LAST-MODIFIED:20241011T203227Z
UID:5761-1730584800-1730604600@www.revivaleventvenue.ca
SUMMARY:Soca & F•R•I•E•N•D•S
DESCRIPTION:Celebrating the birthday of Flexx Got Next \nCELEBRATING THE BIRTHDAY OF FLEXX GOT NEXT🥳 \nFeaturing 🎧 \n𝙄𝙣𝙩𝙚𝙧𝙣𝙖𝙩𝙞𝙤𝙣𝙖𝙡 𝙎𝙩𝙚𝙥𝙝𝙚𝙣 @internationalstephen\n𝘿𝙧. 𝙅𝙖𝙮 𝙙𝙚 @socaprince • 𝙅𝙚𝙨𝙩𝙚𝙧 @thisisjester\n𝘽𝙪𝙯𝙯 𝘽 @dj_buzzb • 𝘿𝙅 𝙆𝙚𝙫𝙞𝙣 @djkevintoronto\n𝙎𝙢𝙖𝙧𝙩𝙞𝙚𝙯 @djsmartiez • 𝙈𝙚𝙣𝙖𝙘𝙚 @itsmenacethedj\n𝙀 𝙈𝙖𝙣 @emanthemc • 𝙈𝙧. 𝙎𝙩𝙖𝙣𝙛𝙞𝙚𝙡𝙙 @mrstanfield\n𝙎𝘽 @sbpromoto \n$𝟰𝟬 𝗧𝗜𝗖𝗞𝗘𝗧𝗦 𝗔𝗥𝗘 𝗢𝗡 𝗦𝗔𝗟𝗘 𝗡𝗢𝗪!\nor Save w/ a 𝗙𝗿𝗶𝗲𝗻𝗱𝘀 𝗣𝗮𝗰𝗸 : 4 Tickets for $140\n𝗘𝘅𝗰𝗹𝘂𝘀𝗶𝘃𝗲𝗹𝘆 𝘃𝗶𝗮 𝘁𝗵𝗲𝘁𝗶𝗰𝗸𝗲𝘁𝗽𝗼𝗿𝘁.𝗰𝗼𝗺 🔎 “Soca&Friends“ \n19+ // I.D Required // Dress To Fete
URL:https://www.revivaleventvenue.ca/event/soca-friends-2/
LOCATION:Revival Event Venue\, 783 College Street\, Toronto\, Ontario\, M6G 1C5\, Canada
ATTACH;FMTTYPE=image/jpeg:https://www.revivaleventvenue.ca/wp-content/uploads/2024/10/SocaFriends-Nov2.jpg
END:VEVENT
END:VCALENDAR