BEGIN:VCALENDAR
VERSION:2.0
PRODID:-//Revival Event Venue - Toronto's Premiere Boutique Event Space - ECPv6.15.20//NONSGML v1.0//EN
CALSCALE:GREGORIAN
METHOD:PUBLISH
X-WR-CALNAME:Revival Event Venue - Toronto's Premiere Boutique Event Space
X-ORIGINAL-URL:https://www.revivaleventvenue.ca
X-WR-CALDESC:Events for Revival Event Venue - Toronto's Premiere Boutique Event Space
REFRESH-INTERVAL;VALUE=DURATION:PT1H
X-Robots-Tag:noindex
X-PUBLISHED-TTL:PT1H
BEGIN:VTIMEZONE
TZID:America/Toronto
BEGIN:DAYLIGHT
TZOFFSETFROM:-0500
TZOFFSETTO:-0400
TZNAME:EDT
DTSTART:20230312T070000
END:DAYLIGHT
BEGIN:STANDARD
TZOFFSETFROM:-0400
TZOFFSETTO:-0500
TZNAME:EST
DTSTART:20231105T060000
END:STANDARD
BEGIN:DAYLIGHT
TZOFFSETFROM:-0500
TZOFFSETTO:-0400
TZNAME:EDT
DTSTART:20240310T070000
END:DAYLIGHT
BEGIN:STANDARD
TZOFFSETFROM:-0400
TZOFFSETTO:-0500
TZNAME:EST
DTSTART:20241103T060000
END:STANDARD
BEGIN:DAYLIGHT
TZOFFSETFROM:-0500
TZOFFSETTO:-0400
TZNAME:EDT
DTSTART:20250309T070000
END:DAYLIGHT
BEGIN:STANDARD
TZOFFSETFROM:-0400
TZOFFSETTO:-0500
TZNAME:EST
DTSTART:20251102T060000
END:STANDARD
END:VTIMEZONE
BEGIN:VEVENT
DTSTART;TZID=America/Toronto:20241030T190000
DTEND;TZID=America/Toronto:20241030T233000
DTSTAMP:20260425T102438
CREATED:20241002T034916Z
LAST-MODIFIED:20241003T203447Z
UID:5751-1730314800-1730331000@www.revivaleventvenue.ca
SUMMARY:Up Next
DESCRIPTION:Get ready for a night of awesome music with UP Next – Jonah Zed\, Give My Remains to Broadway\, and StillWaves – it’s gonna be epic! \nUP Next – Jonah Zed\, Give My Remains to Broadway\, StillWaves\, Vernal Trash \nCome join us at Revival for a night of incredible music! Get ready to groove to the tunes of Jonah Zed\, Give My Remains to Broadway\, and StillWaves. It’s going to be an unforgettable evening filled with amazing performances. Don’t miss out on this epic event!
URL:https://www.revivaleventvenue.ca/event/up-next/
LOCATION:Revival Event Venue\, 783 College Street\, Toronto\, Ontario\, M6G 1C5\, Canada
ATTACH;FMTTYPE=image/jpeg:https://www.revivaleventvenue.ca/wp-content/uploads/2024/10/UpNext-Oct30-v2.jpg
END:VEVENT
END:VCALENDAR